BEGIN:VCALENDAR
VERSION:2.0
PRODID:-//Sports Venue Business (SVB) - ECPv5.2.1.1//NONSGML v1.0//EN
CALSCALE:GREGORIAN
METHOD:PUBLISH
X-WR-CALNAME:Sports Venue Business (SVB)
X-ORIGINAL-URL:https://sportsvenuebusiness.com
X-WR-CALDESC:Events for Sports Venue Business (SVB)
BEGIN:VTIMEZONE
TZID:UTC
BEGIN:STANDARD
TZOFFSETFROM:+0000
TZOFFSETTO:+0000
TZNAME:UTC
DTSTART:20190101T000000
END:STANDARD
END:VTIMEZONE
BEGIN:VEVENT
DTSTART;TZID=UTC:20190520T080000
DTEND;TZID=UTC:20190522T170000
DTSTAMP:20260423T060128
CREATED:20190116T113445Z
LAST-MODIFIED:20190116T113445Z
UID:10777-1558339200-1558544400@sportsvenuebusiness.com
SUMMARY:World Stadium Congress
DESCRIPTION:
URL:https://sportsvenuebusiness.com/event/world-stadium-congress/
LOCATION:Johan Cruijff ArenA\, ArenA Boulevard 1\, PO Box 22981\, Amsterdam\, 1100 DL\, 1100 DL\, Netherlands
CATEGORIES:Conferences and Exhibitions,Major Sporting Events
ATTACH;FMTTYPE=image/png:https://sportsvenuebusiness.com/wp-content/uploads/2019/01/Screen-Shot-2019-01-16-at-11.33.34.png
ORGANIZER;CN="IQPC":MAILTO:enquiry@iqpc.ae
END:VEVENT
END:VCALENDAR