BEGIN:VCALENDAR
VERSION:2.0
PRODID:-//Sports Venue Business (SVB) - ECPv5.2.1.1//NONSGML v1.0//EN
CALSCALE:GREGORIAN
METHOD:PUBLISH
X-WR-CALNAME:Sports Venue Business (SVB)
X-ORIGINAL-URL:https://sportsvenuebusiness.com
X-WR-CALDESC:Events for Sports Venue Business (SVB)
BEGIN:VTIMEZONE
TZID:UTC
BEGIN:STANDARD
TZOFFSETFROM:+0000
TZOFFSETTO:+0000
TZNAME:UTC
DTSTART:20200101T000000
END:STANDARD
END:VTIMEZONE
BEGIN:VEVENT
DTSTART;TZID=UTC:20200701T080000
DTEND;TZID=UTC:20200701T170000
DTSTAMP:20260421T013321
CREATED:20200525T110237Z
LAST-MODIFIED:20200525T110237Z
UID:18634-1593590400-1593622800@sportsvenuebusiness.com
SUMMARY:World Stadium Congress - Online Series
DESCRIPTION:World Stadium Congress will be hosted online this year to connect with its BIGGEST audience yet. ONE Master Pass. THREE Shows. And the best thing about it? It’s free to attend! Save your virtual seat here: https://bit.ly/2XpyCiS\n  \nTune in to presentations and case studies led by speakers from Formula 1 (UK)\, Los Angeles Football Club (USA)\, Johan Cruijff Arena (Amsterdam)\, Titanium Security Arena (AU) Singapore Sports Hub and many more! \n  \nFor more information\, click here. \n  \nSports Venue Business (SVB) is delighted to once again be an Official Media Partner for the World Stadium Congress\, for the third consecutive year.\n  \n#football #formula1 #sportsbiz #sportsindustry #stadia
URL:https://sportsvenuebusiness.com/event/world-stadium-congress-online-series-4/
CATEGORIES:Conferences and Exhibitions
ATTACH;FMTTYPE=image/jpeg:https://sportsvenuebusiness.com/wp-content/uploads/2020/05/1.-event-announcement-01.jpg
ORGANIZER;CN="IQPC":MAILTO:enquiry@iqpc.ae
END:VEVENT
END:VCALENDAR