BEGIN:VCALENDAR
VERSION:2.0
PRODID:-//Sports Venue Business (SVB) - ECPv5.2.1.1//NONSGML v1.0//EN
CALSCALE:GREGORIAN
METHOD:PUBLISH
X-WR-CALNAME:Sports Venue Business (SVB)
X-ORIGINAL-URL:https://sportsvenuebusiness.com
X-WR-CALDESC:Events for Sports Venue Business (SVB)
BEGIN:VTIMEZONE
TZID:UTC
BEGIN:STANDARD
TZOFFSETFROM:+0000
TZOFFSETTO:+0000
TZNAME:UTC
DTSTART:20160101T000000
END:STANDARD
END:VTIMEZONE
BEGIN:VEVENT
DTSTART;TZID=UTC:20160922T080000
DTEND;TZID=UTC:20161003T170000
DTSTAMP:20260423T093857
CREATED:20160920T153925Z
LAST-MODIFIED:20160920T153925Z
UID:192-1474531200-1475514000@sportsvenuebusiness.com
SUMMARY:Women’s Baseball World Cup
DESCRIPTION:
URL:https://sportsvenuebusiness.com/event/womens-baseball-world-cup/
LOCATION:Busan\, Korea\, Democratic People's Republic Of
CATEGORIES:Major Sporting Events
END:VEVENT
END:VCALENDAR