BEGIN:VCALENDAR
VERSION:2.0
PRODID:-//Sports Venue Business (SVB) - ECPv5.2.1.1//NONSGML v1.0//EN
CALSCALE:GREGORIAN
METHOD:PUBLISH
X-WR-CALNAME:Sports Venue Business (SVB)
X-ORIGINAL-URL:https://sportsvenuebusiness.com
X-WR-CALDESC:Events for Sports Venue Business (SVB)
BEGIN:VTIMEZONE
TZID:UTC
BEGIN:STANDARD
TZOFFSETFROM:+0000
TZOFFSETTO:+0000
TZNAME:UTC
DTSTART:20240101T000000
END:STANDARD
END:VTIMEZONE
BEGIN:VEVENT
DTSTART;TZID=UTC:20240620T160000
DTEND;TZID=UTC:20240620T170000
DTSTAMP:20260419T210745
CREATED:20240523T094331Z
LAST-MODIFIED:20240523T094422Z
UID:26909-1718899200-1718902800@sportsvenuebusiness.com
SUMMARY:WEBINAR: Confidently Navigate Venue & Event Safety with WeTrack
DESCRIPTION:Confidently Navigate Venue and Event Safety (English-speaking)\n\nDate: Thursday\, June 20\nTime: 4 – 5 p.m. GMT / 5 – 6 p.m. CET\nSolution Engineer: Dylan Harris\nAccount Executives: Eric Solemn (and Jackie Sabol)\nCustomer: Tim Greenwell\, COO\, Southampton FC\n \nRegistration Link: https://gomomentus.com/wetrack-live-demo-webinar-timeslot-2\nWeTrack is a Momentus Technologies company.
URL:https://sportsvenuebusiness.com/event/webinar-confidently-navigate-venue-event-safety-with-wetrack/
CATEGORIES:Webinars
ATTACH;FMTTYPE=image/png:https://sportsvenuebusiness.com/wp-content/uploads/2024/05/WeTrack-Momentus-Webinar-pic.png
END:VEVENT
END:VCALENDAR