BEGIN:VCALENDAR
VERSION:2.0
PRODID:-//Sports Venue Business (SVB) - ECPv5.2.1.1//NONSGML v1.0//EN
CALSCALE:GREGORIAN
METHOD:PUBLISH
X-WR-CALNAME:Sports Venue Business (SVB)
X-ORIGINAL-URL:https://sportsvenuebusiness.com
X-WR-CALDESC:Events for Sports Venue Business (SVB)
BEGIN:VTIMEZONE
TZID:UTC
BEGIN:STANDARD
TZOFFSETFROM:+0000
TZOFFSETTO:+0000
TZNAME:UTC
DTSTART:20160101T000000
END:STANDARD
END:VTIMEZONE
BEGIN:VEVENT
DTSTART;TZID=UTC:20160926T120000
DTEND;TZID=UTC:20160928T170000
DTSTAMP:20260423T093930
CREATED:20160923T153948Z
LAST-MODIFIED:20160923T170220Z
UID:415-1474891200-1475082000@sportsvenuebusiness.com
SUMMARY:Stadia & Arena Asia Pacific
DESCRIPTION:Stadia & Arena Asia Pacific 2016\, Yokohama Arena\, City of Yokohama\, Japan.
URL:https://sportsvenuebusiness.com/event/stadia-arena-asia-pacific/
LOCATION:Yokohama Arena\, Yokohama\, Japan
CATEGORIES:Conferences and Exhibitions
ATTACH;FMTTYPE=image/jpeg:https://sportsvenuebusiness.com/wp-content/uploads/2016/09/Stadia-Arena-Asia-Pacific-2016-Advert-480-x-200.jpg
END:VEVENT
END:VCALENDAR