BEGIN:VCALENDAR
VERSION:2.0
PRODID:-//Sports Venue Business (SVB) - ECPv5.2.1.1//NONSGML v1.0//EN
CALSCALE:GREGORIAN
METHOD:PUBLISH
X-WR-CALNAME:Sports Venue Business (SVB)
X-ORIGINAL-URL:https://sportsvenuebusiness.com
X-WR-CALDESC:Events for Sports Venue Business (SVB)
BEGIN:VTIMEZONE
TZID:UTC
BEGIN:STANDARD
TZOFFSETFROM:+0000
TZOFFSETTO:+0000
TZNAME:UTC
DTSTART:20200101T000000
END:STANDARD
END:VTIMEZONE
BEGIN:VEVENT
DTSTART;TZID=UTC:20200514T080000
DTEND;TZID=UTC:20200516T170000
DTSTAMP:20260420T082554
CREATED:20200127T123328Z
LAST-MODIFIED:20200127T123328Z
UID:18631-1589443200-1589648400@sportsvenuebusiness.com
SUMMARY:Sports World 2020
DESCRIPTION:
URL:https://sportsvenuebusiness.com/event/sports-world-2020-2/
LOCATION:Crocus Expo IEC\, Moscow\, Russian Federation
CATEGORIES:Conferences and Exhibitions,Major Sporting Events
ATTACH;FMTTYPE=image/png:https://sportsvenuebusiness.com/wp-content/uploads/2020/01/SPORTS-WORLD-2020-for-press-release.png
ORGANIZER;CN="Sports%20World%20Expo":MAILTO:a.simonov@crocus-expo.ru
END:VEVENT
END:VCALENDAR