BEGIN:VCALENDAR
VERSION:2.0
PRODID:-//Sports Venue Business (SVB) - ECPv5.2.1.1//NONSGML v1.0//EN
CALSCALE:GREGORIAN
METHOD:PUBLISH
X-WR-CALNAME:Sports Venue Business (SVB)
X-ORIGINAL-URL:https://sportsvenuebusiness.com
X-WR-CALDESC:Events for Sports Venue Business (SVB)
BEGIN:VTIMEZONE
TZID:UTC
BEGIN:STANDARD
TZOFFSETFROM:+0000
TZOFFSETTO:+0000
TZNAME:UTC
DTSTART:20180101T000000
END:STANDARD
END:VTIMEZONE
BEGIN:VEVENT
DTSTART;TZID=UTC:20180624T080000
DTEND;TZID=UTC:20180627T170000
DTSTAMP:20260420T034506
CREATED:20180118T102750Z
LAST-MODIFIED:20180521T110128Z
UID:6514-1529827200-1530118800@sportsvenuebusiness.com
SUMMARY:The Sports & Venue Design & Build Forum
DESCRIPTION:
URL:https://sportsvenuebusiness.com/event/sports-venue-design-build-forum/
LOCATION:Atlanta Marriott Marquis\, Atlanta\, GA\, United States
CATEGORIES:Conferences and Exhibitions
ATTACH;FMTTYPE=image/png:https://sportsvenuebusiness.com/wp-content/uploads/2018/01/ALSD-Sports-Venue-dbf-logo-2018-dated_270px.png
END:VEVENT
END:VCALENDAR