BEGIN:VCALENDAR
VERSION:2.0
PRODID:-//Sports Venue Business (SVB) - ECPv5.2.1.1//NONSGML v1.0//EN
CALSCALE:GREGORIAN
METHOD:PUBLISH
X-WR-CALNAME:Sports Venue Business (SVB)
X-ORIGINAL-URL:https://sportsvenuebusiness.com
X-WR-CALDESC:Events for Sports Venue Business (SVB)
BEGIN:VTIMEZONE
TZID:UTC
BEGIN:STANDARD
TZOFFSETFROM:+0000
TZOFFSETTO:+0000
TZNAME:UTC
DTSTART:20170101T000000
END:STANDARD
END:VTIMEZONE
BEGIN:VEVENT
DTSTART;TZID=UTC:20170504T080000
DTEND;TZID=UTC:20170504T170000
DTSTAMP:20260423T145054
CREATED:20161014T161417Z
LAST-MODIFIED:20161014T161417Z
UID:18569-1493884800-1493917200@sportsvenuebusiness.com
SUMMARY:Sports Technology Awards
DESCRIPTION:Sports Technology Awards\, 4 May\, Roundhouse\, London\, England: www.sportstechnologyawards.com
URL:https://sportsvenuebusiness.com/event/sports-technology-awards-3/
LOCATION:Roundhouse\, London\, United Kingdom
CATEGORIES:Conferences and Exhibitions
END:VEVENT
END:VCALENDAR