BEGIN:VCALENDAR
VERSION:2.0
PRODID:-//Sports Venue Business (SVB) - ECPv5.2.1.1//NONSGML v1.0//EN
CALSCALE:GREGORIAN
METHOD:PUBLISH
X-WR-CALNAME:Sports Venue Business (SVB)
X-ORIGINAL-URL:https://sportsvenuebusiness.com
X-WR-CALDESC:Events for Sports Venue Business (SVB)
BEGIN:VTIMEZONE
TZID:UTC
BEGIN:STANDARD
TZOFFSETFROM:+0000
TZOFFSETTO:+0000
TZNAME:UTC
DTSTART:20190101T000000
END:STANDARD
END:VTIMEZONE
BEGIN:VEVENT
DTSTART;TZID=UTC:20191121T080000
DTEND;TZID=UTC:20191122T170000
DTSTAMP:20260421T020947
CREATED:20191115T134952Z
LAST-MODIFIED:20191115T134953Z
UID:14034-1574323200-1574442000@sportsvenuebusiness.com
SUMMARY:Soccerex USA
DESCRIPTION:
URL:https://sportsvenuebusiness.com/event/soccerex-usa/
LOCATION:JW Marriott Miami Turnberry Resort\, Miami\, FL\, United States
CATEGORIES:Conferences and Exhibitions
ATTACH;FMTTYPE=image/png:https://sportsvenuebusiness.com/wp-content/uploads/2019/11/Screen-Shot-2019-11-15-at-13.41.23.png
ORGANIZER;CN="Soccerex":MAILTO:enquiries@soccerex.com
END:VEVENT
END:VCALENDAR