BEGIN:VCALENDAR
VERSION:2.0
PRODID:-//Sports Venue Business (SVB) - ECPv5.2.1.1//NONSGML v1.0//EN
CALSCALE:GREGORIAN
METHOD:PUBLISH
X-WR-CALNAME:Sports Venue Business (SVB)
X-ORIGINAL-URL:https://sportsvenuebusiness.com
X-WR-CALDESC:Events for Sports Venue Business (SVB)
BEGIN:VTIMEZONE
TZID:UTC
BEGIN:STANDARD
TZOFFSETFROM:+0000
TZOFFSETTO:+0000
TZNAME:UTC
DTSTART:20190101T000000
END:STANDARD
END:VTIMEZONE
BEGIN:VEVENT
DTSTART;TZID=UTC:20190523T080000
DTEND;TZID=UTC:20190524T170000
DTSTAMP:20260423T042912
CREATED:20190116T113834Z
LAST-MODIFIED:20190116T113834Z
UID:18614-1558598400-1558717200@sportsvenuebusiness.com
SUMMARY:Soccerex China
DESCRIPTION:
URL:https://sportsvenuebusiness.com/event/soccerex-china-2-2/
LOCATION:Mangrove Tree Convention Centre\, Mangrove Tree Resort World Santa Bay\, Sanya\, Hainan\, China
CATEGORIES:Conferences and Exhibitions
ATTACH;FMTTYPE=image/png:https://sportsvenuebusiness.com/wp-content/uploads/2019/01/Screen-Shot-2019-01-16-at-10.00.45.png
ORGANIZER;CN="Soccerex":MAILTO:enquiries@soccerex.com
END:VEVENT
END:VCALENDAR