BEGIN:VCALENDAR
VERSION:2.0
PRODID:-//Sports Venue Business (SVB) - ECPv5.2.1.1//NONSGML v1.0//EN
CALSCALE:GREGORIAN
METHOD:PUBLISH
X-WR-CALNAME:Sports Venue Business (SVB)
X-ORIGINAL-URL:https://sportsvenuebusiness.com
X-WR-CALDESC:Events for Sports Venue Business (SVB)
BEGIN:VTIMEZONE
TZID:UTC
BEGIN:STANDARD
TZOFFSETFROM:+0000
TZOFFSETTO:+0000
TZNAME:UTC
DTSTART:20170101T000000
END:STANDARD
END:VTIMEZONE
BEGIN:VEVENT
DTSTART;TZID=UTC:20170712T080000
DTEND;TZID=UTC:20170713T170000
DTSTAMP:20260423T025928
CREATED:20161116T122245Z
LAST-MODIFIED:20161116T122245Z
UID:18575-1499846400-1499965200@sportsvenuebusiness.com
SUMMARY:Major Events Summit & Awards
DESCRIPTION:MEI Summit & Awards\, 12-13 July\, Plexal (the former Olympic Press & Broadcast Centre for London 2012)\, Queen Elizabeth Olympic Park\, London\, UK: http://www.majoreventssummit.com/
URL:https://sportsvenuebusiness.com/event/major-events-summit-awards-2/
LOCATION:Plexal\, 14 East Bay Lane\, The Press Centre\, Here East\, Queen Elizabeth Olympic Park\, Stratford\, London\, E15 2GW\, United Kingdom
CATEGORIES:Conferences and Exhibitions
ORGANIZER;CN="Major%20Events%20International%20%28MEI%29":MAILTO:enquiries@majoreventsint.com 
END:VEVENT
END:VCALENDAR