BEGIN:VCALENDAR
VERSION:2.0
PRODID:-//Sports Venue Business (SVB) - ECPv5.2.1.1//NONSGML v1.0//EN
CALSCALE:GREGORIAN
METHOD:PUBLISH
X-WR-CALNAME:Sports Venue Business (SVB)
X-ORIGINAL-URL:https://sportsvenuebusiness.com
X-WR-CALDESC:Events for Sports Venue Business (SVB)
BEGIN:VTIMEZONE
TZID:UTC
BEGIN:STANDARD
TZOFFSETFROM:+0000
TZOFFSETTO:+0000
TZNAME:UTC
DTSTART:20220101T000000
END:STANDARD
END:VTIMEZONE
BEGIN:VEVENT
DTSTART;TZID=UTC:20220323T080000
DTEND;TZID=UTC:20220324T170000
DTSTAMP:20260420T213831
CREATED:20220118T143302Z
LAST-MODIFIED:20220118T143302Z
UID:21832-1648022400-1648141200@sportsvenuebusiness.com
SUMMARY:International Sports Convention: ISC London 2022
DESCRIPTION:
URL:https://sportsvenuebusiness.com/event/international-sports-convention-isc-london-2022/
LOCATION:Tottenham Hotspur Stadium\, 782 High Road\, London\, London\, N17 0BX\, United Kingdom
CATEGORIES:Conferences and Exhibitions
ATTACH;FMTTYPE=image/jpeg:https://sportsvenuebusiness.com/wp-content/uploads/2018/05/ISC-2016-Preview-scaled.jpeg
ORGANIZER;CN="International%20Sports%20Convention%20%28ISC%29":MAILTO:info@iscgeneva.com
END:VEVENT
END:VCALENDAR