BEGIN:VCALENDAR
VERSION:2.0
PRODID:-//Sports Venue Business (SVB) - ECPv5.2.1.1//NONSGML v1.0//EN
CALSCALE:GREGORIAN
METHOD:PUBLISH
X-WR-CALNAME:Sports Venue Business (SVB)
X-ORIGINAL-URL:https://sportsvenuebusiness.com
X-WR-CALDESC:Events for Sports Venue Business (SVB)
BEGIN:VTIMEZONE
TZID:UTC
BEGIN:STANDARD
TZOFFSETFROM:+0000
TZOFFSETTO:+0000
TZNAME:UTC
DTSTART:20190101T000000
END:STANDARD
END:VTIMEZONE
BEGIN:VEVENT
DTSTART;TZID=UTC:20190402T080000
DTEND;TZID=UTC:20190402T170000
DTSTAMP:20260421T174114
CREATED:20190315T150551Z
LAST-MODIFIED:20190315T150646Z
UID:11537-1554192000-1554224400@sportsvenuebusiness.com
SUMMARY:IAKS UK Spring event
DESCRIPTION:
URL:https://sportsvenuebusiness.com/event/iaks-uk-spring-event/
LOCATION:London Aquatics Centre\, Queen Elizabeth Olympic Park\, London\, E20 2ZQ\, United Kingdom
CATEGORIES:Conferences and Exhibitions
ATTACH;FMTTYPE=image/jpeg:https://sportsvenuebusiness.com/wp-content/uploads/2019/03/Screen-Shot-2019-03-15-at-12.20.57.jpg
ORGANIZER;CN="IAKS":MAILTO:bardenheuer@iaks.org
END:VEVENT
END:VCALENDAR