BEGIN:VCALENDAR
VERSION:2.0
PRODID:-//Sports Venue Business (SVB) - ECPv5.2.1.1//NONSGML v1.0//EN
CALSCALE:GREGORIAN
METHOD:PUBLISH
X-WR-CALNAME:Sports Venue Business (SVB)
X-ORIGINAL-URL:https://sportsvenuebusiness.com
X-WR-CALDESC:Events for Sports Venue Business (SVB)
BEGIN:VTIMEZONE
TZID:UTC
BEGIN:STANDARD
TZOFFSETFROM:+0000
TZOFFSETTO:+0000
TZNAME:UTC
DTSTART:20200101T000000
END:STANDARD
END:VTIMEZONE
BEGIN:VEVENT
DTSTART;TZID=UTC:20200201T080000
DTEND;TZID=UTC:20200314T170000
DTSTAMP:20260421T002539
CREATED:20191229T220736Z
LAST-MODIFIED:20191229T220736Z
UID:14377-1580544000-1584205200@sportsvenuebusiness.com
SUMMARY:Guinness Six Nations Rugby
DESCRIPTION:
URL:https://sportsvenuebusiness.com/event/guinness-six-nations-rugby/
CATEGORIES:Major Sporting Events
ATTACH;FMTTYPE=image/png:https://sportsvenuebusiness.com/wp-content/uploads/2019/12/Screen-Shot-2019-12-29-at-22.05.15.png
END:VEVENT
END:VCALENDAR