BEGIN:VCALENDAR
VERSION:2.0
PRODID:-//Sports Venue Business (SVB) - ECPv5.2.1.1//NONSGML v1.0//EN
CALSCALE:GREGORIAN
METHOD:PUBLISH
X-WR-CALNAME:Sports Venue Business (SVB)
X-ORIGINAL-URL:https://sportsvenuebusiness.com
X-WR-CALDESC:Events for Sports Venue Business (SVB)
BEGIN:VTIMEZONE
TZID:UTC
BEGIN:STANDARD
TZOFFSETFROM:+0000
TZOFFSETTO:+0000
TZNAME:UTC
DTSTART:20200101T000000
END:STANDARD
END:VTIMEZONE
BEGIN:VEVENT
DTSTART;TZID=UTC:20200227T080000
DTEND;TZID=UTC:20200228T170000
DTSTAMP:20260420T095650
CREATED:20200204T133829Z
LAST-MODIFIED:20200204T133829Z
UID:18632-1582790400-1582909200@sportsvenuebusiness.com
SUMMARY:FOOTBALL BUSINESS Spring Summit
DESCRIPTION:
URL:https://sportsvenuebusiness.com/event/football-business-spring-summit-2/
LOCATION:Allianz Stadion\, Gerhard-Hanappi-Platz 1\, Vienna\, 1140\, Austria
CATEGORIES:Conferences and Exhibitions
ATTACH;FMTTYPE=image/png:https://sportsvenuebusiness.com/wp-content/uploads/2020/02/Screen-Shot-2020-02-04-at-13.37.46.png
ORGANIZER;CN="FOOTBALL%20BUSINESS%20Inside":MAILTO:maurer@fussball-business.com
END:VEVENT
END:VCALENDAR