BEGIN:VCALENDAR
VERSION:2.0
PRODID:-//Sports Venue Business (SVB) - ECPv5.2.1.1//NONSGML v1.0//EN
CALSCALE:GREGORIAN
METHOD:PUBLISH
X-WR-CALNAME:Sports Venue Business (SVB)
X-ORIGINAL-URL:https://sportsvenuebusiness.com
X-WR-CALDESC:Events for Sports Venue Business (SVB)
BEGIN:VTIMEZONE
TZID:UTC
BEGIN:STANDARD
TZOFFSETFROM:+0000
TZOFFSETTO:+0000
TZNAME:UTC
DTSTART:20180101T000000
END:STANDARD
END:VTIMEZONE
BEGIN:VEVENT
DTSTART;TZID=UTC:20180108T080000
DTEND;TZID=UTC:20180110T170000
DTSTAMP:20260420T025027
CREATED:20171223T133626Z
LAST-MODIFIED:20171223T133626Z
UID:18593-1515398400-1515603600@sportsvenuebusiness.com
SUMMARY:FIFEX: Football Industry Forum & Exhibition
DESCRIPTION:
URL:https://sportsvenuebusiness.com/event/fifex-football-industry-forum-exhibition-2/
LOCATION:Belek\, Antalaya\, Turkey
CATEGORIES:Conferences and Exhibitions
ATTACH;FMTTYPE=image/png:https://sportsvenuebusiness.com/wp-content/uploads/2017/12/FIFEX-logo.png
ORGANIZER;CN="Turkish%20Football%20Coaches%20Association":MAILTO:fifex@fifex.org
END:VEVENT
END:VCALENDAR