BEGIN:VCALENDAR
VERSION:2.0
PRODID:-//Sports Venue Business (SVB) - ECPv5.2.1.1//NONSGML v1.0//EN
CALSCALE:GREGORIAN
METHOD:PUBLISH
X-WR-CALNAME:Sports Venue Business (SVB)
X-ORIGINAL-URL:https://sportsvenuebusiness.com
X-WR-CALDESC:Events for Sports Venue Business (SVB)
BEGIN:VTIMEZONE
TZID:UTC
BEGIN:STANDARD
TZOFFSETFROM:+0000
TZOFFSETTO:+0000
TZNAME:UTC
DTSTART:20200101T000000
END:STANDARD
END:VTIMEZONE
BEGIN:VEVENT
DTSTART;TZID=UTC:20201018T080000
DTEND;TZID=UTC:20201020T170000
DTSTAMP:20260419T214250
CREATED:20191115T133858Z
LAST-MODIFIED:20200617T163224Z
UID:14030-1603008000-1603213200@sportsvenuebusiness.com
SUMMARY:30th Annual ALSD Conference & Tradeshow
DESCRIPTION:
URL:https://sportsvenuebusiness.com/event/30th-annual-alsd-conference-tradeshow/
LOCATION:Sheraton Dallas Hotel\, 400 North Olive Street\, Dallas\, TX\, 75201\, United States
CATEGORIES:Conferences and Exhibitions
ATTACH;FMTTYPE=image/png:https://sportsvenuebusiness.com/wp-content/uploads/2020/06/Screen-Shot-2020-06-17-at-17.29.23.png
END:VEVENT
END:VCALENDAR